BEGIN:VCALENDAR
METHOD:REQUEST
PRODID:-//ADE/version 6.0
VERSION:2.0
CALSCALE:GREGORIAN
BEGIN:VEVENT
DTSTAMP:20260424T152707Z
DTSTART:20260515T120000Z
DTEND:20260515T160000Z
SUMMARY:Projet JPEG
LOCATION:E300-info (V) 40PC Linux Archi 32Go OpenGL OpenCL (BADGE)\,E301-
 info (V) 39PC Linux OpenGL OpenCL 32Go\,E303-info (V) 38PC Linux OpenGL 
 16Go
DESCRIPTION:\n\n3MMPLC1_2025_S6_Projet_G1\nDUMAS Julie\n(Exporté le:24/04
 /2026 17:27)\n
UID:ADE60456d706c6f69647574656d7073323032352f323032362d50524f442d32373333
 302d32352d30
CREATED:19700101T000000Z
LAST-MODIFIED:20260424T152707Z
SEQUENCE:2142267547
END:VEVENT
BEGIN:VEVENT
DTSTAMP:20260424T152707Z
DTSTART:20260507T113000Z
DTEND:20260507T151500Z
SUMMARY:Soutenances Projet Tandem S2
LOCATION:H101 (A-V)
DESCRIPTION:\n\n2a\nEvenements 1A\nEvenements 2A\nMAS Marie\nHERNANDEZ GA
 RCIA Maria Teresa\n(Exporté le:24/04/2026 17:27)\n
UID:ADE60456d706c6f69647574656d7073323032352f323032362d50524f442d32393437
 342d302d30
CREATED:19700101T000000Z
LAST-MODIFIED:20260424T152707Z
SEQUENCE:2142267547
END:VEVENT
BEGIN:VEVENT
DTSTAMP:20260424T152707Z
DTSTART:20260507T120000Z
DTEND:20260507T160000Z
SUMMARY:Projet JPEG
LOCATION:E300-info (V) 40PC Linux Archi 32Go OpenGL OpenCL (BADGE)\,E301-
 info (V) 39PC Linux OpenGL OpenCL 32Go\,E303-info (V) 38PC Linux OpenGL 
 16Go
DESCRIPTION:\n\n3MMPLC1_2025_S6_Projet_G1\nDUMAS Julie\n(Exporté le:24/04
 /2026 17:27)\n
UID:ADE60456d706c6f69647574656d7073323032352f323032362d50524f442d32333834
 392d312d30
CREATED:19700101T000000Z
LAST-MODIFIED:20260424T152707Z
SEQUENCE:2142267547
END:VEVENT
BEGIN:VEVENT
DTSTAMP:20260424T152707Z
DTSTART:20260424T110000Z
DTEND:20260424T130000Z
SUMMARY:Examen Interface Logiciel Materiel
LOCATION:E100-info (V) 21PC avec 16 Go ou 32 Go de RAM et une carte graph
 ique AMD obsolète\,E200-info (V) 40PC LinWin OpenGL Office 16Go\,E201-in
 fo (V) 40PC LinWin OpenGL Office 16Go\,E212-info (V) 39PC Linux OpenGL 1
 6Go\,E300-info (V) 40PC Linux Archi 32Go OpenGL OpenCL (BADGE)\,E301-inf
 o (V) 39PC Linux OpenGL OpenCL 32Go\,E303-info (V) 38PC Linux OpenGL 16G
 o
DESCRIPTION:\n\n3MMILM_2025_S6_TP_G1\n3MMILM_2025_S6_TP_G2\n3MMILM_2025_S
 6_TP_G3\n3MMILM_2025_S6_TP_G4\n3MMILM_2025_S6_TP_G5\n3MMILM_2025_S6_TP_G
 6\n3MMILM_2025_S6_TP_G7\n3MMILM_2025_S6_TP_G8\nRIEG Lionel\n(Exporté le:
 24/04/2026 17:27)\n
UID:ADE60456d706c6f69647574656d7073323032352f323032362d50524f442d33333638
 312d302d30
CREATED:19700101T000000Z
LAST-MODIFIED:20260424T152707Z
SEQUENCE:2142267547
END:VEVENT
BEGIN:VEVENT
DTSTAMP:20260424T152707Z
DTSTART:20260429T120000Z
DTEND:20260429T160000Z
SUMMARY:Projet JPEG
LOCATION:E300-info (V) 40PC Linux Archi 32Go OpenGL OpenCL (BADGE)\,E301-
 info (V) 39PC Linux OpenGL OpenCL 32Go\,E303-info (V) 38PC Linux OpenGL 
 16Go
DESCRIPTION:\n\n3MMPLC1_2025_S6_Projet_G1\nDUMAS Julie\n(Exporté le:24/04
 /2026 17:27)\n
UID:ADE60456d706c6f69647574656d7073323032352f323032362d50524f442d32373333
 302d32362d30
CREATED:19700101T000000Z
LAST-MODIFIED:20260424T152707Z
SEQUENCE:2142267547
END:VEVENT
BEGIN:VEVENT
DTSTAMP:20260424T152707Z
DTSTART:20260507T061500Z
DTEND:20260507T103000Z
SUMMARY:Projet JPEG
LOCATION:E300-info (V) 40PC Linux Archi 32Go OpenGL OpenCL (BADGE)\,E301-
 info (V) 39PC Linux OpenGL OpenCL 32Go\,E303-info (V) 38PC Linux OpenGL 
 16Go
DESCRIPTION:\n\n3MMPLC1_2025_S6_Projet_G1\nDUMAS Julie\n(Exporté le:24/04
 /2026 17:27)\n
UID:ADE60456d706c6f69647574656d7073323032352f323032362d50524f442d32373333
 302d372d30
CREATED:19700101T000000Z
LAST-MODIFIED:20260424T152707Z
SEQUENCE:2142267547
END:VEVENT
BEGIN:VEVENT
DTSTAMP:20260424T152707Z
DTSTART:20260430T061500Z
DTEND:20260430T103000Z
SUMMARY:Projet JPEG
LOCATION:E300-info (V) 40PC Linux Archi 32Go OpenGL OpenCL (BADGE)\,E301-
 info (V) 39PC Linux OpenGL OpenCL 32Go\,E303-info (V) 38PC Linux OpenGL 
 16Go
DESCRIPTION:\n\n3MMPLC1_2025_S6_Projet_G1\nDUMAS Julie\n(Exporté le:24/04
 /2026 17:27)\n
UID:ADE60456d706c6f69647574656d7073323032352f323032362d50524f442d32373333
 302d382d30
CREATED:19700101T000000Z
LAST-MODIFIED:20260424T152707Z
SEQUENCE:2142267547
END:VEVENT
BEGIN:VEVENT
DTSTAMP:20260424T152707Z
DTSTART:20260505T120000Z
DTEND:20260505T160000Z
SUMMARY:Projet JPEG
LOCATION:E300-info (V) 40PC Linux Archi 32Go OpenGL OpenCL (BADGE)\,E301-
 info (V) 39PC Linux OpenGL OpenCL 32Go\,E303-info (V) 38PC Linux OpenGL 
 16Go
DESCRIPTION:\n\n3MMPLC1_2025_S6_Projet_G1\nDUMAS Julie\n(Exporté le:24/04
 /2026 17:27)\n
UID:ADE60456d706c6f69647574656d7073323032352f323032362d50524f442d32373333
 302d31372d30
CREATED:19700101T000000Z
LAST-MODIFIED:20260424T152707Z
SEQUENCE:2142267547
END:VEVENT
BEGIN:VEVENT
DTSTAMP:20260424T152707Z
DTSTART:20260519T120000Z
DTEND:20260519T160000Z
SUMMARY:Projet JPEG
LOCATION:E300-info (V) 40PC Linux Archi 32Go OpenGL OpenCL (BADGE)\,E301-
 info (V) 39PC Linux OpenGL OpenCL 32Go\,E303-info (V) 38PC Linux OpenGL 
 16Go
DESCRIPTION:\n\n3MMPLC1_2025_S6_Projet_G1\nDUMAS Julie\n(Exporté le:24/04
 /2026 17:27)\n
UID:ADE60456d706c6f69647574656d7073323032352f323032362d50524f442d32373333
 302d32322d30
CREATED:19700101T000000Z
LAST-MODIFIED:20260424T152707Z
SEQUENCE:2142267547
END:VEVENT
BEGIN:VEVENT
DTSTAMP:20260424T152707Z
DTSTART:20260512T120000Z
DTEND:20260512T160000Z
SUMMARY:Projet JPEG
LOCATION:E301-info (V) 39PC Linux OpenGL OpenCL 32Go\,E300-info (V) 40PC 
 Linux Archi 32Go OpenGL OpenCL (BADGE)\,E303-info (V) 38PC Linux OpenGL 
 16Go
DESCRIPTION:\n\n3MMPLC1_2025_S6_Projet_G1\nDUMAS Julie\n(Exporté le:24/04
 /2026 17:27)\n
UID:ADE60456d706c6f69647574656d7073323032352f323032362d50524f442d32373333
 302d32302d30
CREATED:19700101T000000Z
LAST-MODIFIED:20260424T152707Z
SEQUENCE:2142267547
END:VEVENT
BEGIN:VEVENT
DTSTAMP:20260424T152707Z
DTSTART:20260428T120000Z
DTEND:20260428T160000Z
SUMMARY:Projet JPEG
LOCATION:E300-info (V) 40PC Linux Archi 32Go OpenGL OpenCL (BADGE)\,E301-
 info (V) 39PC Linux OpenGL OpenCL 32Go\,E303-info (V) 38PC Linux OpenGL 
 16Go
DESCRIPTION:\n\n3MMPLC1_2025_S6_Projet_G1\nDUMAS Julie\n(Exporté le:24/04
 /2026 17:27)\n
UID:ADE60456d706c6f69647574656d7073323032352f323032362d50524f442d32373333
 302d32372d30
CREATED:19700101T000000Z
LAST-MODIFIED:20260424T152707Z
SEQUENCE:2142267547
END:VEVENT
BEGIN:VEVENT
DTSTAMP:20260424T152707Z
DTSTART:20260430T120000Z
DTEND:20260430T160000Z
SUMMARY:Projet JPEG
LOCATION:E300-info (V) 40PC Linux Archi 32Go OpenGL OpenCL (BADGE)\,E301-
 info (V) 39PC Linux OpenGL OpenCL 32Go\,E303-info (V) 38PC Linux OpenGL 
 16Go
DESCRIPTION:\n\n3MMPLC1_2025_S6_Projet_G1\nDUMAS Julie\n(Exporté le:24/04
 /2026 17:27)\n
UID:ADE60456d706c6f69647574656d7073323032352f323032362d50524f442d32373333
 302d31352d30
CREATED:19700101T000000Z
LAST-MODIFIED:20260424T152707Z
SEQUENCE:2142267547
END:VEVENT
BEGIN:VEVENT
DTSTAMP:20260424T152707Z
DTSTART:20260519T061500Z
DTEND:20260519T103000Z
SUMMARY:Projet JPEG
LOCATION:D201-info (V) 40PC Linux-Freebsd OpenGL Réseau 16Go\,E301-info (
 V) 39PC Linux OpenGL OpenCL 32Go\,E303-info (V) 38PC Linux OpenGL 16Go
DESCRIPTION:\n\n3MMPLC1_2025_S6_Projet_G1\nDUMAS Julie\n(Exporté le:24/04
 /2026 17:27)\n
UID:ADE60456d706c6f69647574656d7073323032352f323032362d50524f442d32373333
 302d332d30
CREATED:19700101T000000Z
LAST-MODIFIED:20260424T152707Z
SEQUENCE:2142267547
END:VEVENT
BEGIN:VEVENT
DTSTAMP:20260424T152707Z
DTSTART:20260520T061500Z
DTEND:20260520T103000Z
SUMMARY:Projet JPEG
LOCATION:E300-info (V) 40PC Linux Archi 32Go OpenGL OpenCL (BADGE)\,E301-
 info (V) 39PC Linux OpenGL OpenCL 32Go\,E303-info (V) 38PC Linux OpenGL 
 16Go
DESCRIPTION:\n\n3MMPLC1_2025_S6_Projet_G1\nDUMAS Julie\n(Exporté le:24/04
 /2026 17:27)\n
UID:ADE60456d706c6f69647574656d7073323032352f323032362d50524f442d32373333
 302d322d30
CREATED:19700101T000000Z
LAST-MODIFIED:20260424T152707Z
SEQUENCE:2142267547
END:VEVENT
BEGIN:VEVENT
DTSTAMP:20260424T152707Z
DTSTART:20260504T061500Z
DTEND:20260504T103000Z
SUMMARY:Projet JPEG
LOCATION:E300-info (V) 40PC Linux Archi 32Go OpenGL OpenCL (BADGE)\,E301-
 info (V) 39PC Linux OpenGL OpenCL 32Go\,E303-info (V) 38PC Linux OpenGL 
 16Go
DESCRIPTION:\n\n3MMPLC1_2025_S6_Projet_G1\nDUMAS Julie\n(Exporté le:24/04
 /2026 17:27)\n
UID:ADE60456d706c6f69647574656d7073323032352f323032362d50524f442d32373333
 302d352d30
CREATED:19700101T000000Z
LAST-MODIFIED:20260424T152707Z
SEQUENCE:2142267547
END:VEVENT
BEGIN:VEVENT
DTSTAMP:20260424T152707Z
DTSTART:20260518T061500Z
DTEND:20260518T103000Z
SUMMARY:Projet JPEG
LOCATION:E300-info (V) 40PC Linux Archi 32Go OpenGL OpenCL (BADGE)\,E301-
 info (V) 39PC Linux OpenGL OpenCL 32Go\,E303-info (V) 38PC Linux OpenGL 
 16Go
DESCRIPTION:\n\n3MMPLC1_2025_S6_Projet_G1\nDUMAS Julie\n(Exporté le:24/04
 /2026 17:27)\n
UID:ADE60456d706c6f69647574656d7073323032352f323032362d50524f442d32373333
 302d342d30
CREATED:19700101T000000Z
LAST-MODIFIED:20260424T152707Z
SEQUENCE:2142267547
END:VEVENT
BEGIN:VEVENT
DTSTAMP:20260424T152707Z
DTSTART:20260428T061500Z
DTEND:20260428T103000Z
SUMMARY:Projet JPEG
LOCATION:*\,E301-info (V) 39PC Linux OpenGL OpenCL 32Go\,E303-info (V) 38
 PC Linux OpenGL 16Go
DESCRIPTION:\n\n3MMPLC1_2025_S6_Projet_G1\nDUMAS Julie\n(Exporté le:24/04
 /2026 17:27)\n
UID:ADE60456d706c6f69647574656d7073323032352f323032362d50524f442d32373333
 302d302d30
CREATED:19700101T000000Z
LAST-MODIFIED:20260424T152707Z
SEQUENCE:2142267547
END:VEVENT
BEGIN:VEVENT
DTSTAMP:20260424T152707Z
DTSTART:20260427T061500Z
DTEND:20260427T103000Z
SUMMARY:Projet JPEG
LOCATION:E300-info (V) 40PC Linux Archi 32Go OpenGL OpenCL (BADGE)\,E301-
 info (V) 39PC Linux OpenGL OpenCL 32Go\,E303-info (V) 38PC Linux OpenGL 
 16Go
DESCRIPTION:\n\n3MMPLC1_2025_S6_Projet_G1\n* Enseignant à préciser\n(Expo
 rté le:24/04/2026 17:27)\n
UID:ADE60456d706c6f69647574656d7073323032352f323032362d50524f442d32333834
 392d302d30
CREATED:19700101T000000Z
LAST-MODIFIED:20260424T152707Z
SEQUENCE:2142267547
END:VEVENT
BEGIN:VEVENT
DTSTAMP:20260424T152707Z
DTSTART:20260506T061500Z
DTEND:20260506T103000Z
SUMMARY:Projet JPEG
LOCATION:D100-info (V) 40PC Linux-Freebsd OpenGL Réseau 16Go\,D101-info (
 V) 40PC Linux-Freebsd OpenGL Réseau 16Go\,D201-info (V) 40PC Linux-Freeb
 sd OpenGL Réseau 16Go
DESCRIPTION:\n\n3MMPLC1_2025_S6_Projet_G1\nDUMAS Julie\n(Exporté le:24/04
 /2026 17:27)\n
UID:ADE60456d706c6f69647574656d7073323032352f323032362d50524f442d32373333
 302d362d30
CREATED:19700101T000000Z
LAST-MODIFIED:20260424T152707Z
SEQUENCE:2142267547
END:VEVENT
BEGIN:VEVENT
DTSTAMP:20260424T152707Z
DTSTART:20260515T061500Z
DTEND:20260515T103000Z
SUMMARY:Projet JPEG
LOCATION:E300-info (V) 40PC Linux Archi 32Go OpenGL OpenCL (BADGE)\,E301-
 info (V) 39PC Linux OpenGL OpenCL 32Go\,E303-info (V) 38PC Linux OpenGL 
 16Go
DESCRIPTION:\n\n3MMPLC1_2025_S6_Projet_G1\nDUMAS Julie\n(Exporté le:24/04
 /2026 17:27)\n
UID:ADE60456d706c6f69647574656d7073323032352f323032362d50524f442d32373333
 302d312d30
CREATED:19700101T000000Z
LAST-MODIFIED:20260424T152707Z
SEQUENCE:2142267547
END:VEVENT
BEGIN:VEVENT
DTSTAMP:20260424T152707Z
DTSTART:20260427T120000Z
DTEND:20260427T160000Z
SUMMARY:Projet JPEG
LOCATION:E300-info (V) 40PC Linux Archi 32Go OpenGL OpenCL (BADGE)\,E301-
 info (V) 39PC Linux OpenGL OpenCL 32Go\,E303-info (V) 38PC Linux OpenGL 
 16Go
DESCRIPTION:\n\n3MMPLC1_2025_S6_Projet_G1\nDUMAS Julie\n(Exporté le:24/04
 /2026 17:27)\n
UID:ADE60456d706c6f69647574656d7073323032352f323032362d50524f442d32373333
 302d31342d30
CREATED:19700101T000000Z
LAST-MODIFIED:20260424T152707Z
SEQUENCE:2142267547
END:VEVENT
BEGIN:VEVENT
DTSTAMP:20260424T152707Z
DTSTART:20260511T061500Z
DTEND:20260511T103000Z
SUMMARY:Projet JPEG
LOCATION:E300-info (V) 40PC Linux Archi 32Go OpenGL OpenCL (BADGE)\,E301-
 info (V) 39PC Linux OpenGL OpenCL 32Go\,E303-info (V) 38PC Linux OpenGL 
 16Go
DESCRIPTION:\n\n3MMPLC1_2025_S6_Projet_G1\nDUMAS Julie\n(Exporté le:24/04
 /2026 17:27)\n
UID:ADE60456d706c6f69647574656d7073323032352f323032362d50524f442d32373333
 302d392d30
CREATED:19700101T000000Z
LAST-MODIFIED:20260424T152707Z
SEQUENCE:2142267547
END:VEVENT
BEGIN:VEVENT
DTSTAMP:20260424T152707Z
DTSTART:20260506T120000Z
DTEND:20260506T160000Z
SUMMARY:Projet JPEG
LOCATION:E300-info (V) 40PC Linux Archi 32Go OpenGL OpenCL (BADGE)\,E301-
 info (V) 39PC Linux OpenGL OpenCL 32Go\,E303-info (V) 38PC Linux OpenGL 
 16Go
DESCRIPTION:\n\n3MMPLC1_2025_S6_Projet_G1\nDUMAS Julie\n(Exporté le:24/04
 /2026 17:27)\n
UID:ADE60456d706c6f69647574656d7073323032352f323032362d50524f442d32373333
 302d31392d30
CREATED:19700101T000000Z
LAST-MODIFIED:20260424T152707Z
SEQUENCE:2142267547
END:VEVENT
BEGIN:VEVENT
DTSTAMP:20260424T152707Z
DTSTART:20260512T061500Z
DTEND:20260512T103000Z
SUMMARY:Projet JPEG
LOCATION:*\,E301-info (V) 39PC Linux OpenGL OpenCL 32Go\,E303-info (V) 38
 PC Linux OpenGL 16Go
DESCRIPTION:\n\n3MMPLC1_2025_S6_Projet_G1\nDUMAS Julie\n(Exporté le:24/04
 /2026 17:27)\n
UID:ADE60456d706c6f69647574656d7073323032352f323032362d50524f442d32373333
 302d31312d30
CREATED:19700101T000000Z
LAST-MODIFIED:20260424T152707Z
SEQUENCE:2142267547
END:VEVENT
BEGIN:VEVENT
DTSTAMP:20260424T152707Z
DTSTART:20260513T061500Z
DTEND:20260513T103000Z
SUMMARY:Projet JPEG
LOCATION:E300-info (V) 40PC Linux Archi 32Go OpenGL OpenCL (BADGE)\,E301-
 info (V) 39PC Linux OpenGL OpenCL 32Go\,E303-info (V) 38PC Linux OpenGL 
 16Go
DESCRIPTION:\n\n3MMPLC1_2025_S6_Projet_G1\nDUMAS Julie\n(Exporté le:24/04
 /2026 17:27)\n
UID:ADE60456d706c6f69647574656d7073323032352f323032362d50524f442d32373333
 302d31302d30
CREATED:19700101T000000Z
LAST-MODIFIED:20260424T152707Z
SEQUENCE:2142267547
END:VEVENT
BEGIN:VEVENT
DTSTAMP:20260424T152707Z
DTSTART:20260511T120000Z
DTEND:20260511T160000Z
SUMMARY:Projet JPEG
LOCATION:E300-info (V) 40PC Linux Archi 32Go OpenGL OpenCL (BADGE)\,E301-
 info (V) 39PC Linux OpenGL OpenCL 32Go\,E303-info (V) 38PC Linux OpenGL 
 16Go
DESCRIPTION:\n\n3MMPLC1_2025_S6_Projet_G1\nDUMAS Julie\n(Exporté le:24/04
 /2026 17:27)\n
UID:ADE60456d706c6f69647574656d7073323032352f323032362d50524f442d32373333
 302d31382d30
CREATED:19700101T000000Z
LAST-MODIFIED:20260424T152707Z
SEQUENCE:2142267547
END:VEVENT
BEGIN:VEVENT
DTSTAMP:20260424T152707Z
DTSTART:20260504T120000Z
DTEND:20260504T160000Z
SUMMARY:Projet JPEG
LOCATION:E300-info (V) 40PC Linux Archi 32Go OpenGL OpenCL (BADGE)\,E301-
 info (V) 39PC Linux OpenGL OpenCL 32Go\,E303-info (V) 38PC Linux OpenGL 
 16Go
DESCRIPTION:\n\n3MMPLC1_2025_S6_Projet_G1\nDUMAS Julie\n(Exporté le:24/04
 /2026 17:27)\n
UID:ADE60456d706c6f69647574656d7073323032352f323032362d50524f442d32373333
 302d31362d30
CREATED:19700101T000000Z
LAST-MODIFIED:20260424T152707Z
SEQUENCE:2142267547
END:VEVENT
BEGIN:VEVENT
DTSTAMP:20260424T152707Z
DTSTART:20260518T120000Z
DTEND:20260518T160000Z
SUMMARY:Projet JPEG
LOCATION:E300-info (V) 40PC Linux Archi 32Go OpenGL OpenCL (BADGE)\,E301-
 info (V) 39PC Linux OpenGL OpenCL 32Go\,E303-info (V) 38PC Linux OpenGL 
 16Go
DESCRIPTION:\n\n3MMPLC1_2025_S6_Projet_G1\nDUMAS Julie\n(Exporté le:24/04
 /2026 17:27)\n
UID:ADE60456d706c6f69647574656d7073323032352f323032362d50524f442d32373333
 302d32332d30
CREATED:19700101T000000Z
LAST-MODIFIED:20260424T152707Z
SEQUENCE:2142267547
END:VEVENT
BEGIN:VEVENT
DTSTAMP:20260424T152707Z
DTSTART:20260520T120000Z
DTEND:20260520T160000Z
SUMMARY:Projet JPEG
LOCATION:*\,E301-info (V) 39PC Linux OpenGL OpenCL 32Go
DESCRIPTION:\n\n3MMPLC1_2025_S6_Projet_G1\nDUMAS Julie\n(Exporté le:24/04
 /2026 17:27)\n
UID:ADE60456d706c6f69647574656d7073323032352f323032362d50524f442d32373333
 302d32342d30
CREATED:19700101T000000Z
LAST-MODIFIED:20260424T152707Z
SEQUENCE:2142267547
END:VEVENT
BEGIN:VEVENT
DTSTAMP:20260424T152707Z
DTSTART:20260513T120000Z
DTEND:20260513T160000Z
SUMMARY:Projet JPEG
LOCATION:E300-info (V) 40PC Linux Archi 32Go OpenGL OpenCL (BADGE)\,E301-
 info (V) 39PC Linux OpenGL OpenCL 32Go\,E303-info (V) 38PC Linux OpenGL 
 16Go
DESCRIPTION:\n\n3MMPLC1_2025_S6_Projet_G1\nDUMAS Julie\n(Exporté le:24/04
 /2026 17:27)\n
UID:ADE60456d706c6f69647574656d7073323032352f323032362d50524f442d32373333
 302d32312d30
CREATED:19700101T000000Z
LAST-MODIFIED:20260424T152707Z
SEQUENCE:2142267547
END:VEVENT
BEGIN:VEVENT
DTSTAMP:20260424T152707Z
DTSTART:20260429T061500Z
DTEND:20260429T103000Z
SUMMARY:Projet JPEG
LOCATION:E300-info (V) 40PC Linux Archi 32Go OpenGL OpenCL (BADGE)\,E301-
 info (V) 39PC Linux OpenGL OpenCL 32Go\,E303-info (V) 38PC Linux OpenGL 
 16Go
DESCRIPTION:\n\n3MMPLC1_2025_S6_Projet_G1\nDUMAS Julie\n(Exporté le:24/04
 /2026 17:27)\n
UID:ADE60456d706c6f69647574656d7073323032352f323032362d50524f442d32373333
 302d31322d30
CREATED:19700101T000000Z
LAST-MODIFIED:20260424T152707Z
SEQUENCE:2142267547
END:VEVENT
BEGIN:VEVENT
DTSTAMP:20260424T152707Z
DTSTART:20260505T061500Z
DTEND:20260505T103000Z
SUMMARY:Projet JPEG
LOCATION:*\,E301-info (V) 39PC Linux OpenGL OpenCL 32Go\,E303-info (V) 38
 PC Linux OpenGL 16Go
DESCRIPTION:\n\n3MMPLC1_2025_S6_Projet_G1\nDUMAS Julie\n(Exporté le:24/04
 /2026 17:27)\n
UID:ADE60456d706c6f69647574656d7073323032352f323032362d50524f442d32373333
 302d31332d30
CREATED:19700101T000000Z
LAST-MODIFIED:20260424T152707Z
SEQUENCE:2142267547
END:VEVENT
BEGIN:VEVENT
DTSTAMP:20260424T152707Z
DTSTART:20260424T133000Z
DTEND:20260424T153000Z
SUMMARY:Examen Interface Logiciel Materiel
LOCATION:E100-info (V) 21PC avec 16 Go ou 32 Go de RAM et une carte graph
 ique AMD obsolète\,E200-info (V) 40PC LinWin OpenGL Office 16Go\,E201-in
 fo (V) 40PC LinWin OpenGL Office 16Go\,E212-info (V) 39PC Linux OpenGL 1
 6Go\,E300-info (V) 40PC Linux Archi 32Go OpenGL OpenCL (BADGE)\,E301-inf
 o (V) 39PC Linux OpenGL OpenCL 32Go\,E303-info (V) 38PC Linux OpenGL 16G
 o
DESCRIPTION:\n\n3MMILM_2025_S6_TP_G1\n3MMILM_2025_S6_TP_G2\n3MMILM_2025_S
 6_TP_G3\n3MMILM_2025_S6_TP_G4\n3MMILM_2025_S6_TP_G5\n3MMILM_2025_S6_TP_G
 6\n3MMILM_2025_S6_TP_G7\n3MMILM_2025_S6_TP_G8\nRIEG Lionel\n(Exporté le:
 24/04/2026 17:27)\n
UID:ADE60456d706c6f69647574656d7073323032352f323032362d50524f442d33333638
 312d312d30
CREATED:19700101T000000Z
LAST-MODIFIED:20260424T152707Z
SEQUENCE:2142267547
END:VEVENT
END:VCALENDAR
